BEGIN:VCALENDAR
VERSION:2.0
X-WR-CALNAME:www.indybay.org
PRODID:-//indybay/ical// v1.0//EN
BEGIN:VEVENT
UID:Indybay-18636513
SEQUENCE:18699954
CREATED:20100129T085000Z
DESCRIPTION:Black Caucus of the\n\n \n\nCalifornia Student Association of Community 
 Colleges (CalSACC)\n\n \n\nFriday, January 29, 2010, 4:00- 6:00 
 pm\n\nExecutive Board Meeting\n\n \n\n\nNOTICE IS HEREBY GIVEN that the 
 Black Caucus of California Student Association\n\nof Community Colleges 
 (CalSACC) will hold a teleconference meeting on Friday,\n\nJanuary 29, 
 2010. If you have any questions, please contact President Kelly Gordon 
 kgordon3206@ yahoo.com\n\n \n\n \n\nI.    Call To Order\n\nRoll Call: \n\n 
 \n\nPresident Gordon   Pr__Ab__   Vice-President Thompson Pr__ Ab__\n\n 
 \n\nSecretary/Webmaster Woolridge Pr__Ab__   Treasurer Ochola   
 Pr__Ab__\n\n \n\nNRC George   Pr__Ab__     CRC (vacant)   Pr__Ab__\n\n 
 \n\nSRC (vacant) Pr__Ab__    Parliamentarian Fernandez   Pr__Ab__\n\n 
 \n\nCommunications Officer (vacant) Pr__Ab__\n\n \n\nAdvisor Tyler Pr__Ab__ 
     Advisor Byrd     Pr__Ab__\n\n \n\n \n\nII.\n\nA.      Adoption of 
 Agenda, January 29, 2010\n\nB.      Open forum Public Comment\n\n 
 \n\nPublic Comment\n\nThis time is reserved for members of the public to 
 address the Black Caucus on\n\nissues not already appearing on the agenda. 
 A limit of three minutes per speaker\n\nand fifteen minutes per topic shall 
 be observed.\n\n \n\nIII. Old Business (Updates)\n\n \n\nA.      Website. 
 Board will discuss and or take possible action on approving Black Caucus 
 website. 15-30 mins.\n\nB.      Business Cards. Board will discuss and or 
 take possible action on approving business cards. 10 mins.\n\nC.      
 Catering. Board will discuss and or take possible action on. 10-20 
 mins.\n\nD.      Harambee Newspaper. Board will discuss and or take 
 possible action on item. 20-40 mins.\n\nE.       Speakers. Board will 
 discuss and or take possible action on. 10-20 mins.\n\nV. Informal 
 Discussion.\n\n \n\nVI. Announcements.\n\nVII.     Adjournment.\n\nput up 
 by\n\nhttp://twitter.com/davidaquinley\n\nmostly outisde bay area mostly 
 events + 
 news\n\nhttp://www.facebook.com/profile.php?id=100000031433391&ref=mf#/profile.php?ref=profile&id=100000031433391\n\nhttp://digitaldaq.deviantart.com/gallery/\n\nmostly 
 inside sf bay area\nevents + news\n\n 
 https://www.indybay.org/newsitems/2010/01/29/18636513.php
SUMMARY:Black Caucus of the California Student Association of Community Colleges Phone Meet
LOCATION:Teleconference\n\n (888) 886-3951\n\n \n\nPass Code:  281220#\n
URL:https://www.indybay.org/newsitems/2010/01/29/18636513.php
DTSTART:20100130T000000Z
DTEND:20100130T020000Z
END:VEVENT
END:VCALENDAR
