BEGIN:VCALENDAR
VERSION:2.0
X-WR-CALNAME:www.indybay.org
PRODID:-//indybay/ical// v1.0//EN
BEGIN:VEVENT
UID:Indybay-18636209
SEQUENCE:18699515
CREATED:20100125T231900Z
DESCRIPTION:The current crisis is a classic hit by economic hit men (EHM) - except this 
 time the victims are us. Drawing on personal experiences described in his 
 blockbuster books, John Perkins explains how tools honed during the past 
 four decades in developing countries are enabling the extremely rich to 
 purchase businesses and real estate at fire sale prices; defend abolition 
 of health care, education, and other social programs; and justify 
 privatization of the public sector. However, crises offer opportunities. 
 Perkins presents a plan for transforming the economy and describes ways 
 each of us can employ our individual passions and skills to not only 
 prosper but also create a world we will be proud to pass on to future 
 generations. \n \nJohn Perkins is the bestselling author of Confessions of 
 an Economic Hit Man, The Secret History of the American Empire, and most 
 recently Hoodwinked: An Economic Hit Man Reveals Why the World Financial 
 Markets Imploded--and What We Need to Do to Remake Them.\n\nCo-sponsored by 
 Lamorinda Peace & Justice.\nSuggested donation:$20 General admission; $16 
 Peace Center members; \n$5 Students with current ID\n\n 
 https://www.indybay.org/newsitems/2010/01/25/18636209.php
SUMMARY:John Perkins: Economic Crisis: the Hit Men Strike Home--What Next and How to Deal with It
LOCATION:Mt. Diablo Unitarian Universalist Church, 55 Eckley Lane, Walnut Creek, CA 
 94596
URL:https://www.indybay.org/newsitems/2010/01/25/18636209.php
DTSTART:20100223T030000Z
DTEND:20100223T050000Z
END:VEVENT
END:VCALENDAR
