BEGIN:VCALENDAR
VERSION:2.0
X-WR-CALNAME:www.indybay.org
PRODID:-//indybay/ical// v1.0//EN
BEGIN:VEVENT
UID:Indybay-18635813
SEQUENCE:18698908
CREATED:20100121T062300Z
DESCRIPTION:http://is.gd/6Iq15\n\nIntroductory Evening - San Francisco\nWednesday, 
 February 3, 2010\n7:00pm-9:00pm\n\nIntroductory Evenings are lively 
 explorations of the basic principles of Nonviolent Communication (NVC), a 
 language and consciousness of compassion that can dramatically improve all 
 of our relationships, from personal to professional. Live modeling 
 demonstrates how the NVC process can be used in a wide variety of real-life 
 situations. Participants have the option of using situations from their own 
 lives as they practice.\n\n"Newt brings great authenticity and humor into 
 his teaching. He is a natural teacher, and exhibits an unusually high level 
 of poise, calmness, and clarity in his delivery. I also really enjoyed his 
 ability to respond spontaneously to what was arising in the workshop, while 
 still supporting the participants in moving on to new territory when they 
 were ready."\n\nWe hope that people with more experience in the NVC process 
 will bring your friends.\n\nTrainer(s):	Newt Bailey\nRequested 
 Contribution:	Sliding Scale: $0 - $35. You are invited to return again for 
 as many Introductory Evenings as you would like.\n\nContact:	Please 
 pre-register by noon of the Monday before the workshop, so that we can plan 
 chairs, etc. and so we know whom to contact in the unlikely event of 
 cancellation.\n\nThis location is wheelchair accessible. We will send you a 
 confirmation email with parking and public transit information.\n\nAt Bay 
 Area Nonviolent Communication, we are committed to your privacy. Click here 
 to read our email privacy policy.\n\nYou may register by clicking the green 
 "Register Now" button below, or by calling or emailing BayNVC: 510 433-0700 
 register@baynvc.org\n 
 https://www.indybay.org/newsitems/2010/01/20/18635813.php
SUMMARY:Introduction to Nonviolent Communication
LOCATION:Location:	San Francisco, CA, City College of San Francisco, Downtown 
 Campus: 88 Fourth St, Room 618
URL:https://www.indybay.org/newsitems/2010/01/20/18635813.php
DTSTART:20100204T030000Z
DTEND:20100204T050000Z
END:VEVENT
END:VCALENDAR
