BEGIN:VCALENDAR
VERSION:2.0
X-WR-CALNAME:www.indybay.org
PRODID:-//indybay/ical// v1.0//EN
BEGIN:VEVENT
UID:Indybay-18635732
SEQUENCE:18698806
CREATED:20100120T080600Z
DESCRIPTION:Join us this week as we are getting out the word everywhere of Bob 
 Avakian's major talk,Revolution: Why It's Necessary, Why It's Possible, 
 What It's All About, now online and accessible to millions. \nSee "Spread 
 the REVOLUTION...Online" for how you can take part. We'll show clips of 
 REVOLUTION in our bookstore on Wednesday and Thursday.\nFurther discussion 
 on the oppression of women, women's liberation &  revolution. Featuring 
 clips  "A world of rape and sexual assault" and "'Traditional' values - 
 tradition's chains" from Revolution, a film of a talk by Bob Avakian.  
 Another world is possible!\n\n 
 https://www.indybay.org/newsitems/2010/01/20/18635732.php
SUMMARY:Revolution:Why It's Necessary, Why It's Possible, What It's All About !
LOCATION:Revolution Books\n2425 Channing Way( in the Sather Gate Parking Mall off of 
 Telegraph Avenue).Wheelchair accessible, donations accepted.
URL:https://www.indybay.org/newsitems/2010/01/20/18635732.php
DTSTART:20100121T030000Z
DTEND:20100121T050000Z
END:VEVENT
END:VCALENDAR
