BEGIN:VCALENDAR
VERSION:2.0
X-WR-CALNAME:www.indybay.org
PRODID:-//indybay/ical// v1.0//EN
BEGIN:VEVENT
UID:Indybay-18635489
SEQUENCE:18698447
CREATED:20100118T000900Z
DESCRIPTION:2010 Golden Gate National Park Endangered Species Big Year Trip: \nRestore 
 Twain's Frog and the Beautiful Serpent \nSaturday January 23, 2010\n10:00 
 a.m.-1:00 p.m.\nMori Point Entrance Gate: Francisco Blvd at Bradford, 
 Pacifica, CA 94044. See event directions at www.wildequity.org/events. 
 \nCost of Event: Free\n\nThe Golden Gate National Parks Endangered Species 
 Big Year is a race against time to observe each of the 36 endangered and 
 threatened species found within the Golden Gate National Parks, while 
 taking 36 discrete conservation recovery actions that will help prevent 
 these species from going extinct. It is a free competitive event where the 
 person who sees and helps the most species between January 1, 2010 and 
 December 31, 2010, will win the Big Year. Signup for the Big Year at 
 www.wildequity.org and go to the calendar to see the upcoming Big Year 
 trips and activities.\n\nRestore Twain's Frog and the Beautiful Serpent 
 \nSaturday January 23, 2010, 10:00 a.m.-1:00 p.m.: Get your fingers dirty 
 and help restore habitat for the critically endangered San Francisco garter 
 snake, with a chance to see California red-legged frogs! Join Price Sheppy 
 of the Golden Gate National Parks Conservancy for a day of planting around 
 several newly created frog ponds at Mori Point in Pacifica. Meeting spot is 
 Mori Point entrance gate. Group Limit is 30 people. A carpool is available 
 from Fort Mason, Building 34 – the third duplex on your left (leaving at 
 9:15 a.m.). Carpool RSVP required, call Price Sheppy 1-415-561-3073\nFor 
 more information go to: www.wildequity.org/events\n\nRSVP for each event 
 within the event’s information at www.wildequity.org/events\n\nOther 
 January 2010 Trips:\nJanuary 30: Sea Watch for Endangered Sea 
 Creatures\n\nWebsite: www.wildequity.org\n\n 
 https://www.indybay.org/newsitems/2010/01/17/18635489.php
SUMMARY:2010 Golden Gate National Park Endangered Species Big Year Trip: Restore Twain's Frog and
LOCATION:Mori Point Entrance Gate: Francisco Blvd at Bradford, Pacifica, CA 94044. 
 See event directions at www.wildequity.org/events.
URL:https://www.indybay.org/newsitems/2010/01/17/18635489.php
DTSTART:20100123T180000Z
DTEND:20100123T210000Z
END:VEVENT
END:VCALENDAR
