BEGIN:VCALENDAR
VERSION:2.0
X-WR-CALNAME:www.indybay.org
PRODID:-//indybay/ical// v1.0//EN
BEGIN:VEVENT
UID:Indybay-18635011
SEQUENCE:18697698
CREATED:20100112T015600Z
DESCRIPTION:KEITH HENNESSY’S A QUEER 20TH ANNIVERSARY - 2009 - 2010 
 SEASON…\n\nJANUARY 15 – 31, 2010 in SAN FRANCISCO\n\n\nKeith Hennessy 
 announces details of his 2009 - 2010 season, which continues through 
 January 31, 2010. Keith Hennessy’s A Queer 20th Anniversary will be a 
 retrospective of two seminal pieces performed by Keith Hennessy & company 
 including HOW TO DIE (2005 - 06) — A performance by Keith Hennessy with 
 Jules Beckman & Seth Eisen at Dance Mission Theatre (1/15 - 17/10). A 
 highlight of the season will be the West Coast Premiere of CROTCH (all the 
 Joseph Beuys references in the world…)(2008) — A performance by \nKeith 
 Hennessy at Dance Mission (1/29 - 31/10). CROTCH had its US premiere at 
 NY’s Dance Theater Workshop in April 2009, garnering much acclaim by NY 
 critics: “an outré, charged solo” - NY Times. \n For info please call 
 415/ 401-9376. Website:   http://www.circozero.org\n\nKeith Hennessy’s A 
 Queer 20th Anniversary celebrates the 20th anniversary of Hennessy’s 
 coming out \nsolo performance SALIVA, with a full season of events 
 including performances, publications, and a queer performance marathon. The 
 performances — one premiere and two restaged works - will be complimented 
 by both teaching and archive projects. 
 \n--------------------------------------------------------------------------------------------------------------------------------------------------------------------------------------------------------------------------------------------------------------------------------------------------------------------------------\n\n2009 
 -2010 SEASON:\n\nFriday — Sunday\nJan. 15 — 17, 2010\n8:00 pm	HOW TO 
 DIE (2005-06)\n		Performance by Keith Hennessy with Jules Beckman & Seth 
 Eisen\n		Dance Mission Theatre, 3316 24th Street, SF 94110 
 	415/273-4633\n		Tix: $15—25 sliding scale.	 
 	https://www.brownpapertickets.com/event/82277\n----------------------------------------------------------------------------------------------------------------------------\n\nFriday 
 — Sunday\nJanuary 29 - 31, 2010\n8:00 pm	CROTCH – West Coast 
 Premiere\n(all the Joseph Beuys references in the world…) (2008)\n		Solo 
 Performance by Keith Hennessy\nDance Mission Theatre, 3316 24th Street, SF 
 94110	415/273-4633\n		Tix: $15—25 sliding 
 scale.		https://www.brownpapertickets.com/event/82278\n----------------------------------------------------------------------------------------------------------------------------\nFor 
 directions to the venues and additional information about events, please 
 visit: http://www.circozero.org\n\nWhat:	Keith Hennessy’s A Queer 20th 
 Anniversary \n\nDates:	January 15 - 31, 2010 \n\nVenues:	• Dance Mission 
 Theatre, 3316 24th Street, SF 94110	415/273-4633\n\nTickets:	CROTCH / HOW 
 TO DIE: $15 - 25 sliding scale,\n\nBox 
 Office:		http://www.brownpapertickets.com\n\nVideo 
 Clip:	http://www.youtube.com/watch?v=D4K6ELMaEO4\n\nTelephone:		For info 
 please call 415/401-9376\n\nWebsite:	 	http://www.circozero.org\n\n 
 https://www.indybay.org/newsitems/2010/01/11/18635011.php
SUMMARY:Keith Hennessy’s A Queer 20th Anniversary
LOCATION:Dance Mission Theatre, \n3316 24th Street, SF 94110	\n415/273-4633
URL:https://www.indybay.org/newsitems/2010/01/11/18635011.php
DTSTART:20100116T040000Z
DTEND:20100116T053000Z
END:VEVENT
END:VCALENDAR
