BEGIN:VCALENDAR
VERSION:2.0
X-WR-CALNAME:www.indybay.org
PRODID:-//indybay/ical// v1.0//EN
BEGIN:VEVENT
UID:Indybay-18635003
SEQUENCE:18697690
CREATED:20100112T002600Z
DESCRIPTION:Regular meetings of the City Council occur on the 2nd Monday of each month 
 beginning at 7:30 p.m. in the City Hall Council Chambers located at 450 San 
 Rafael Avenue. To contact a member of the Council, you may contact City 
 Hall at 435-3838, in writing to the City Hall address, or via emal. Emails 
 for each Councilmember are listed with their biography via the links to the 
 left.\n\nfor mostly outside sf bay area 
 stuff\n\nhttp://www.facebook.com/profile.php?ref=profile&id=100000031433391#/profile.php?id=100000031433391&ref=mf\n\nhttp://twitter.com/davidaquinley\n\nfor 
 mostly  sf bay area stuff\n 
 https://www.indybay.org/newsitems/2010/01/11/18635003.php
SUMMARY:Marin Sups. Meet-Civ.C>Next Meet on Marin Clean Energy-They should not pick Criminal:Shell
LOCATION:January 11, 7:30pm - City of Belvedere City Council 
 \n\nhttp://www.cityofbelvedere.org/cc_citycouncil.html\n\nJanuary 12, 
 10:00am - County of Marin - CIVIC CENTER 
 \n\nhttp://www.co.marin.ca.us/depts/BS/main/index.cfm\n\nJanuary 12, 7:00pm 
 - City of Sausalito\n\nMarin Energy Authority Meetings:\n3501 Civic Center 
 Drive, Room 30, San Rafael\n\nJanuary 18, 10:00am - Executive Committee 
 Meeting\n
URL:https://www.indybay.org/newsitems/2010/01/11/18635003.php
DTSTART:20100112T180000Z
DTEND:20100113T000000Z
END:VEVENT
END:VCALENDAR
