BEGIN:VCALENDAR
VERSION:2.0
X-WR-CALNAME:www.indybay.org
PRODID:-//indybay/ical// v1.0//EN
BEGIN:VEVENT
UID:Indybay-18634954
SEQUENCE:18697611
CREATED:20100111T173700Z
DESCRIPTION:Radical Women Organizing Meeting will focus on priorities for 2010, 
 including plans for protesting the rightwing Walk for Life, celebrating 
 Black History Month and International Women’s Day, Thursday, January 14, 
 at 7:00 pm.  A winter buffet with vegetarian option for $7.50 served at 
 6:15 pm.  New Valencia Hall, 625 Larkin Street, Suite 202, San Francisco 
 (located five blocks from the Civic Center BART station, and on the #19, 
 31, 38, 47 & 49 Muni bus lines)  For more information or childcare, call 
 415-864-1278, or email baradicalwomen@earthlink.net.\n 
 https://www.indybay.org/newsitems/2010/01/11/18634954.php
SUMMARY:Radical Women Meeting
LOCATION:New Valencia Hall, 625 Larkin Street, Suite 202, San Francisco
URL:https://www.indybay.org/newsitems/2010/01/11/18634954.php
DTSTART:20100115T030000Z
DTEND:20100115T050000Z
END:VEVENT
END:VCALENDAR
