BEGIN:VCALENDAR
VERSION:2.0
X-WR-CALNAME:www.indybay.org
PRODID:-//indybay/ical// v1.0//EN
BEGIN:VEVENT
UID:Indybay-18634468
SEQUENCE:18696858
CREATED:20100106T172500Z
DESCRIPTION:come hang out with the East bay Free Skoolers and listen to great music 
 and/or play some at our open mic featuring For Fear the Hearts f Men Are 
 Failing, have some food and fill out a teacher form for our February/ March 
 calendar\n\nThis Sunday (1/10)\n7-11P\nThe Long Haul (3124 Shattuck accross 
 from La Pena)\n https://www.indybay.org/newsitems/2010/01/06/18634468.php
SUMMARY:East Bay Free Skool Party and teacher form deadline!
LOCATION:The Long Haul (3124 Shattuck @ Woolsey across from La Pena)
URL:https://www.indybay.org/newsitems/2010/01/06/18634468.php
DTSTART:20100111T030000Z
DTEND:20100111T070000Z
END:VEVENT
END:VCALENDAR
