BEGIN:VCALENDAR
VERSION:2.0
X-WR-CALNAME:www.indybay.org
PRODID:-//indybay/ical// v1.0//EN
BEGIN:VEVENT
UID:Indybay-18634285
SEQUENCE:18696555
CREATED:20100104T210000Z
DESCRIPTION:The Ecology Center invites you to go on a Low Carbon Diet with us. 
 Participate in a free four-session workshop series and receive the support, 
 information and motivation to reduce your carbon footprint and make 
 significant changes in your community. \n\nWHAT: 4-session Climate Change 
 Action workshop series \nWHEN: Tuesdays from 6-8pm, 1/12, 1/19, 1/26, and 
 2/2 \nWHERE: Ecology Center, 2530 San Pablo Ave (at Dwight), Berkeley 
 \nCOST: Participation is free (a $10 fee will be charged for the Low Carbon 
 Diet workbook; no one turned away for lack of funds) \nHOW DO I SIGN UP?: 
 Write to debra@ecologycenter.org and invite your friends and colleagues. 
 For more information, visit http://www.ecologycenter.org \n\nBackground on 
 the Ecology Center \nThe Ecology Center provides the public with reliable 
 information, tools, hands-on training, referrals, strategies, 
 infrastructure, and models for sustainable living. Our programs enable 
 people to adopt practices that are environmentally and socially 
 responsible. We run Berkeley's residential curbside recycling program, the 
 Berkeley Farmers' Markets, Farm Fresh Choice food justice program, Terrain 
 magazine, EcoHouse demonstration home and garden, the Ecology Center Store, 
 and a variety of Information and Climate Change Action programs. \n\nWe 
 hope you can join us! \n 
 https://www.indybay.org/newsitems/2010/01/04/18634285.php
SUMMARY:Lose 5000 pounds... of carbon, that is. Free workshop series
LOCATION:Ecology Center, Berkeley
URL:https://www.indybay.org/newsitems/2010/01/04/18634285.php
DTSTART:20100120T020000Z
DTEND:20100120T040000Z
END:VEVENT
END:VCALENDAR
