BEGIN:VCALENDAR
VERSION:2.0
X-WR-CALNAME:www.indybay.org
PRODID:-//indybay/ical// v1.0//EN
BEGIN:VEVENT
UID:Indybay-18633601
SEQUENCE:18695472
CREATED:20091226T071800Z
DESCRIPTION:Sing, dance, plot, eat, drink, be merry - or mad!\n\nBring food, drink to 
 share - would be nice. And a donation would be nice, too.\n\n 
 https://www.indybay.org/newsitems/2009/12/25/18633601.php
SUMMARY:Seasonal celebration with Peace and Freedom Party
LOCATION:Niebyl-Proctor Library\n6501 Telegraph Ave./Alcatraz Ave.\nOakland, Ca. 
 /Berkeley border.
URL:https://www.indybay.org/newsitems/2009/12/25/18633601.php
DTSTART:20100102T220000Z
DTEND:20100103T010000Z
END:VEVENT
END:VCALENDAR
