BEGIN:VCALENDAR
VERSION:2.0
X-WR-CALNAME:www.indybay.org
PRODID:-//indybay/ical// v1.0//EN
BEGIN:VEVENT
UID:Indybay-18633583
SEQUENCE:18695451
CREATED:20091225T210300Z
DESCRIPTION:2010 Golden Gate National Park Endangered Species Big Year\n\nThe Golden 
 Gate National Parks contains more endangered species than any other 
 National Park in continental North America. This is certainly cause for 
 celebration, but also for concern. The Golden Gate National Parks 
 Endangered Species Big Year is a race against time to observe each of the 
 36 endangered and threatened species found within the Golden Gate National 
 Parks, while taking 36 discrete conservation recovery actions that will 
 help prevent these species from going extinct. It is a free competitive 
 event where the\nperson who sees and helps the most species between January 
 1, 2010 and December 31, 2010, will win the Big Year. Celebrate the 
 incredible diversity of life around you by taking part in the Big Year and 
 get to know these species while helping them recover.\n\nGo online to 
 www.wildequity.org and signup for the Big Year and go to the calendar to 
 see the upcoming Big Year trips and activities.\n\n\nSaturday, January 16, 
 2010, 10:00 a.m.-1:00 p.m.: Mission Blue Butterfly Restoration. Enjoy 
 stunning vistas and work-off those holiday calories while removing invasive 
 French Broom from Mission blue butterfly habitat in the Marin 
 Headlands.\n\nOther Trips for January 2010:\nJanuary 16, 2010: Coho Salmon 
 and Steelhead Trout Walk\nJanuary 23, 2010: Snake and Frog Habitat 
 Restoration\nJanuary 30, 2010: Sea Watch\n\nFor more info, go to 
 www.wildequity.org.\n 
 https://www.indybay.org/newsitems/2009/12/25/18633583.php
SUMMARY:2010 Golden Gate National Park Endangered Species Big Year
LOCATION:Alta Avenue Entrance Gate at the end of Donahue Street, Sausalito, CA\nSee 
 www.wildequity.org/events for more details
URL:https://www.indybay.org/newsitems/2009/12/25/18633583.php
DTSTART:20100116T180000Z
DTEND:20100116T210000Z
END:VEVENT
END:VCALENDAR
