BEGIN:VCALENDAR
VERSION:2.0
X-WR-CALNAME:www.indybay.org
PRODID:-//indybay/ical// v1.0//EN
BEGIN:VEVENT
UID:Indybay-18632908
SEQUENCE:18694438
CREATED:20091217T193100Z
DESCRIPTION:Salon, is the debut album of COULON—the latest 
 world-meets-acoustic-meets-soul trio out of Williamsburg, Brooklyn. It is a 
 romantic, melodic, lush, and dreamy record of magnanimous proportions with 
 an instant mass appeal. Moreover, it is a love story.\n 
 https://www.indybay.org/newsitems/2009/12/17/18632908.php
SUMMARY:Coulon at the Elbo Room
LOCATION:Elbo Room\n647 Valencia St\nSan Francisco, CA\n9pm  $7\n(415) 552-7788\n
URL:https://www.indybay.org/newsitems/2009/12/17/18632908.php
DTSTART:20091229T050000Z
DTEND:20091229T063000Z
END:VEVENT
END:VCALENDAR
