BEGIN:VCALENDAR
VERSION:2.0
X-WR-CALNAME:www.indybay.org
PRODID:-//indybay/ical// v1.0//EN
BEGIN:VEVENT
UID:Indybay-18632702
SEQUENCE:18694077
CREATED:20091215T231800Z
DESCRIPTION:CCA is proud to announce a pop-up gallery in downtown San Francisco located 
 on the retail level of 74 New Montgomery (corner of Annie and Jessie 
 Streets, between Mission and Market). Over the coming months we’ll 
 feature student work from a range of departments, emphasizing the breadth 
 of CCA’s programs with the goal of connecting and integrating diverse 
 academic schools of thought, perspectives, and technologies.\n\nPlease join 
 us for the first exhibit opening Thursday, December 17, from 5–8 pm 
 highlighting designs from the Fashion and Furniture programs and artwork 
 from the Graduate Program in Fine Arts.\n\nThis presentation would not be 
 possible without the dedication\nand generous support of the San Francisco 
 Art Dealers  association, New Montgomery Partners, and Very Public Arts.\n 
 https://www.indybay.org/newsitems/2009/12/15/18632702.php
SUMMARY:Pop-Up Gallery - CCA Fashion, Furniture, and MFA Student Work
LOCATION:74 New Montgomery St\nSan Francisco, CA 94105
URL:https://www.indybay.org/newsitems/2009/12/15/18632702.php
DTSTART:20091218T010000Z
DTEND:20091218T040000Z
END:VEVENT
END:VCALENDAR
