BEGIN:VCALENDAR
VERSION:2.0
X-WR-CALNAME:www.indybay.org
PRODID:-//indybay/ical// v1.0//EN
BEGIN:VEVENT
UID:Indybay-18632249
SEQUENCE:18693585
CREATED:20091211T194800Z
DESCRIPTION:Newly-elected (by his own City Council) Mayor Mike Rotkin will cross verbal 
 swords with Robert Norse in the Free Radio Santa Cruz studio.   \n\nTopics 
 are expected to include:  the proposed ban on new medical marijuana clinics 
 and growhouses, recently installed anti-homeless architectural changes 
 downtown (Penguin statutes, fencing, bench removal), the ever-repugnant 
 outdoor and vehicular Sleeping Ban, the City's $120,000 defense of its 
 repressive City Council decorum rules, the prospect of new anti-war 
 initiatives at a city level, city support for "green" psychiatric 
 alternatives, renter protection legislation locally...and more.\n\nCall in 
 with your questions and comments at 469-3119 and 427-3772.  (Area code is 
 831 for distant folks)\n\nYou can also e-mail questions in advance to me at 
 rnorse3@hotmail.com ! \n\nRotkin and City Council can be reached directly 
 at 831-420-5020.  \n 
 https://www.indybay.org/newsitems/2009/12/11/18632249.php
SUMMARY:Mixing It Up With the Mayor: Freak Radio Interview
LOCATION:101.1 FM (streaming at www.freakradio.org, archived at 
 www.huffsantacruz.org)
URL:https://www.indybay.org/newsitems/2009/12/11/18632249.php
DTSTART:20091213T183000Z
DTEND:20091213T193000Z
END:VEVENT
END:VCALENDAR
