BEGIN:VCALENDAR
VERSION:2.0
X-WR-CALNAME:www.indybay.org
PRODID:-//indybay/ical// v1.0//EN
BEGIN:VEVENT
UID:Indybay-18630804
SEQUENCE:18691318
CREATED:20091130T033500Z
DESCRIPTION:Benefit show for California Prison Moratorium Project, a grassroots 
 organization to stop the expansion of prisons and jails in the Central 
 Valley.  Smoke My Pipe, It'll Grow Back, Hop Skotch Heros. $6+$1 membership 
 at CYC.\n https://www.indybay.org/newsitems/2009/11/29/18630804.php
SUMMARY:Benefit show for California Prison Moratorium Project
LOCATION:Chinatown Youth Center\n901 F Street\nDowntown Fresno
URL:https://www.indybay.org/newsitems/2009/11/29/18630804.php
DTSTART:20091206T020000Z
DTEND:20091206T130000Z
END:VEVENT
END:VCALENDAR
