BEGIN:VCALENDAR
VERSION:2.0
X-WR-CALNAME:www.indybay.org
PRODID:-//indybay/ical// v1.0//EN
BEGIN:VEVENT
UID:Indybay-18630756
SEQUENCE:18691244
CREATED:20091129T063300Z
DESCRIPTION:Protest AIPAC's support for Israel's human rights violations and war crimes 
 at pro-Israel lobby Sac Area annual luncheon. Rain or shine; signs will be 
 provided. Radisson Hotel, 500 Leisure Ln, Sacramento. Contact your local 
 electeds now, tell them not to attend. FMI cprsacramento@gmail.com \n 
 https://www.indybay.org/newsitems/2009/11/28/18630756.php
SUMMARY:Protest AIPAC's Support for Human Rights Violations
LOCATION:Radisson Hotel, 500 Leisure Ln, Sacramento
URL:https://www.indybay.org/newsitems/2009/11/28/18630756.php
DTSTART:20091213T183000Z
DTEND:20091213T203000Z
END:VEVENT
END:VCALENDAR
