BEGIN:VCALENDAR
VERSION:2.0
X-WR-CALNAME:www.indybay.org
PRODID:-//indybay/ical// v1.0//EN
BEGIN:VEVENT
UID:Indybay-18630507
SEQUENCE:18690834
CREATED:20091125T182700Z
DESCRIPTION:Please join the 2009 CHIME artists (Yannis Adoniou of Kunst-stoff and 
 Folawole ) as they share their experiences in the program with the public. 
 Artists will present free showings of work developed during the year and 
 discuss their insights into mentorship.\n\n\nCHIME (Choreographers in 
 Mentorship Exchange) is a unique mentorship program allowing for 
 self-selected pairs of professional choreographers – mentor and mentee 
 – to receive financial support in order to establish and explore a 
 working relationship that includes work in the studio.\n 
 https://www.indybay.org/newsitems/2009/11/25/18630507.php
SUMMARY:CHIME
LOCATION:Margaret Jenkins Dance Lab\n301 - 8th Street #200 (corner of Folsom 
 St.)\nSan Francisco, CA 94103
URL:https://www.indybay.org/newsitems/2009/11/25/18630507.php
DTSTART:20091220T020000Z
DTEND:20091220T030000Z
END:VEVENT
END:VCALENDAR
