BEGIN:VCALENDAR
VERSION:2.0
X-WR-CALNAME:www.indybay.org
PRODID:-//indybay/ical// v1.0//EN
BEGIN:VEVENT
UID:Indybay-18629609
SEQUENCE:18689456
CREATED:20091121T004300Z
DESCRIPTION:We will rally/march to support the occupation!\n\n...this time, we fight 
 back!\n https://www.indybay.org/newsitems/2009/11/20/18629609.php
SUMMARY:The Battle of Berkeley
LOCATION:Meet at Wheeler Hall, UC BERKELEY, BERKELEY
URL:https://www.indybay.org/newsitems/2009/11/20/18629609.php
DTSTART:20091121T040000Z
DTEND:20091121T160000Z
END:VEVENT
END:VCALENDAR
