BEGIN:VCALENDAR
VERSION:2.0
X-WR-CALNAME:www.indybay.org
PRODID:-//indybay/ical// v1.0//EN
BEGIN:VEVENT
UID:Indybay-18629162
SEQUENCE:18688841
CREATED:20091119T041900Z
DESCRIPTION:\n https://www.indybay.org/newsitems/2009/11/18/18629162.php
SUMMARY:General Assembly & Action at UCSC
LOCATION:Occupied Kresge Town Hall
URL:https://www.indybay.org/newsitems/2009/11/18/18629162.php
DTSTART:20091119T210000Z
DTEND:20091119T230000Z
END:VEVENT
END:VCALENDAR
