BEGIN:VCALENDAR
VERSION:2.0
X-WR-CALNAME:www.indybay.org
PRODID:-//indybay/ical// v1.0//EN
BEGIN:VEVENT
UID:Indybay-18628871
SEQUENCE:18688411
CREATED:20091116T223200Z
DESCRIPTION:The trial of Oscar Grant's murderer is moving out of Alameda Country and 
 away from Justice! Join in solidarity with Justice for Oscar Grant at two 
 events Thursday:\n\n1.) The Change of Venue hearing, to decide which county 
 (San Diego or Los Angeles) will host the trial. 1:30pm at Alameda County 
 Courthouse, 12th and Oak.\n\n2.) An organizing meeting later that evening 
 to strategize next moves for justice, at 7pm at the historic Continental 
 Club, 1658 12th Street in West Oakland. See what you can do to get 
 involved!\n https://www.indybay.org/newsitems/2009/11/16/18628871.php
SUMMARY:Protest Racist Venue Change! Organize for Justice!
LOCATION:1:30pm at Alameda County Courthouse, 12th and Oak\n7:00pm at the 
 Continental Club, 1658 12th St in West Oakland
URL:https://www.indybay.org/newsitems/2009/11/16/18628871.php
DTSTART:20091119T213000Z
DTEND:20091120T053000Z
END:VEVENT
END:VCALENDAR
