BEGIN:VCALENDAR
VERSION:2.0
X-WR-CALNAME:www.indybay.org
PRODID:-//indybay/ical// v1.0//EN
BEGIN:VEVENT
UID:Indybay-18628128
SEQUENCE:18687203
CREATED:20091109T041100Z
DESCRIPTION:When: November 21st, 3-10pm\nWhere: Green String Farm. 3571 Old Adobe Rd. 
 Petaluma, CA 94954\nCost: $10, kids get in free. Barter accepted, no one 
 will be refused.\n\nString Fest is a celebration of the growth of local 
 sustainable agriculture, cuisine and music. Hosted by interns at Petaluma's 
 Green String Farm, the festival will feature local organizations, food 
 purveyors, lectures by several of the Bay Area's most recognized 
 agricultural and sustainability leaders as well as sets of live rock and 
 Americana music by up and coming Bay Area musicians! Join us at the Green 
 String Farm for an evening of education and fun!\nGreen String Fest 
 Lineup\n\n3pm - Network/ Meet and Greet! This is your chance to meet and 
 talk with local organizations and local food vendors from Marin and Sonoma 
 counties who are creating change in our local communities. Find out who is 
 supplying healthy food for you, your family and friends and how you can 
 support them. Some featured organizations include Slow Food Movement, 
 Petaluma Bounty, Malibu Compost and more!\n\n4pm - Farm Tours Join us for a 
 half hour tour around Green String Farm, interns leading the tour will 
 teach you about natural process farming and a sustainable way of life. 
 Interested in the intern program? A separate half hour tour will be given 
 of the Green String Institute.\n\n5pm - Lecture Series Hear from Bob 
 Cannard (Green String Farm/ Cannard Farms), Aaron Lucich ("We Are What We 
 Eat" movie), and Ross Rubin (Sonoma County Bee Keeper)\n\n8pm - Live Music! 
 Rock out to the sounds of North Bay's group Faith in Phantoms and the Green 
 String Farm Band. End your evening with great tunes and a whole lotta 
 dancing!\n\nMuch More... Delicious food from Green String Farm served 
 throughout the day, hot drinks, & kids activities.\nSee You At the Farm!\n 
 https://www.indybay.org/newsitems/2009/11/08/18628128.php
SUMMARY:Green String Fest
LOCATION:Green String Farm in Petaluma. 3571 Old Adobe Road 
URL:https://www.indybay.org/newsitems/2009/11/08/18628128.php
DTSTART:20091121T230000Z
DTEND:20091122T060000Z
END:VEVENT
END:VCALENDAR
