BEGIN:VCALENDAR
VERSION:2.0
X-WR-CALNAME:www.indybay.org
PRODID:-//indybay/ical// v1.0//EN
BEGIN:VEVENT
UID:Indybay-18627895
SEQUENCE:18686866
CREATED:20091105T163700Z
DESCRIPTION:Fundraising rally with the Anarchist newspaper of Venezuela El Libertario 
 (Bring your solidarity)\n5 dollars entrance\n\nMovie: The Rebel 
 Patagonia\n\nfilm information: From 1920 to 1921, there was a peasant 
 uprising in Patagonia led by anarchists. The army, led by Colonel Varela, 
 reacted by executing some 1,500 people. Because of the remoteness of the 
 region, the events did not become known in Buenos Aires at first. Once they 
 did, the anarchist movement started a campaign against the "killer of 
 Patagonia", as they called Varela. This led the Tolstoyan anarchist Kurt 
 Gustav Wilckens to assassinate the colonel on January 23, 1923. \n\nPlace: 
 AK Press warehouse (674-A 23rd Street Oakland, CA 94612)\n\nTime: 7:00 
 p.m.\n\nType: Fundraising event with the Anarchist Movement in Venezuela\n  
         5 dollars entrance\n\nMore information: \n 
 http://www.nodo50.org/ellibertario/\n 
 http://indubioproreovzla.blogspot.com/\n http://www.akpress.org/\n\nInvite: 
 AK Press and El Libertario\n 
 https://www.indybay.org/newsitems/2009/11/05/18627895.php
SUMMARY:Fundraising rally with the anarchist newspaper El Libertario
LOCATION:AK Press warehouse (674-A 23rd Street Oakland, CA 94612)
URL:https://www.indybay.org/newsitems/2009/11/05/18627895.php
DTSTART:20091120T030000Z
DTEND:20091120T050000Z
END:VEVENT
END:VCALENDAR
