BEGIN:VCALENDAR
VERSION:2.0
X-WR-CALNAME:www.indybay.org
PRODID:-//indybay/ical// v1.0//EN
BEGIN:VEVENT
UID:Indybay-18627891
SEQUENCE:18686871
CREATED:20091105T162900Z
DESCRIPTION:Conference and movies about the anticapitalist and anarchism perspective 
 about the Chavez government and his contradictions, the true behind a 
 revolution was betrayed for one man.\n\nMovies: Venezuela 27 de febrero\n   
          Our oil and other tales\nDay: November 15\nHour: 7:00 p.m.\nPlace: 
 Station 40 (Mission 3030B 16th St San Francisco, CA 94103)\nType: 
 Fundraising event in solidarity with Sabino Romero, indigenous leader in 
 prison for fight against the coal exploitation in the indigenous 
 communities and the anarchist newspaper El Libertario, bring your 
 solidarity (money, magazines, newspaper or proposals)\nmore information: 
 \nhttp://www.nodo50.org/ellibertario/\nhttp://indubioproreovzla.blogspot.com/\nInvite: 
 El Libertario and Station 40 crew\n 
 https://www.indybay.org/newsitems/2009/11/05/18627891.php
SUMMARY:Anarchism in Venezuela, another perspective about the Bolivarian revolution
LOCATION:Station 40 (Mission 3030B 16th St San Francisco, CA 94103)
URL:https://www.indybay.org/newsitems/2009/11/05/18627891.php
DTSTART:20091116T030000Z
DTEND:20091116T050000Z
END:VEVENT
END:VCALENDAR
