BEGIN:VCALENDAR
VERSION:2.0
X-WR-CALNAME:www.indybay.org
PRODID:-//indybay/ical// v1.0//EN
BEGIN:VEVENT
UID:Indybay-18627726
SEQUENCE:18686578
CREATED:20091104T002300Z
DESCRIPTION:As the US weighs a change of approach toward the Iranian government after 
 thirty years of confrontation, Middle East expert John Limbert joins the 
 Council to share his assessment of how to engage Iran. Drawing on four case 
 studies highlighting past successes and failures, Limbert challenges both 
 Americans and Iranians to end decades of mutually hostile mythmaking and 
 create a platform for cultural and historical understanding. He argues that 
 Iran will not change its behavior immediately and stop all of its misdeeds 
 in the areas of Middle East peace, human rights and nuclear development. 
 Yet by entering into serious negotiations, the US may discover areas of 
 common interest that lurk behind walls of hostility and distrust. Limbert 
 has served in numerous foreign service positions and holds the State 
 Department's highest award—the Distinguished Service Award—and the 
 Award for Valor, which he received after fourteen months as a hostage 
 during the Iran hostage crisis. \n\nMembers: Free; Nonmembers: $15; 
 Students: $5.\n https://www.indybay.org/newsitems/2009/11/03/18627726.php
SUMMARY:Negotiating with Iran--with Ambassador John Limbert
LOCATION:World Affairs Council Auditorium\n312 Sutter Street, 2nd Floor\nSan 
 Francisco, CA 94108\n
URL:https://www.indybay.org/newsitems/2009/11/03/18627726.php
DTSTART:20091117T020000Z
DTEND:20091117T030000Z
END:VEVENT
END:VCALENDAR
