BEGIN:VCALENDAR
VERSION:2.0
X-WR-CALNAME:www.indybay.org
PRODID:-//indybay/ical// v1.0//EN
BEGIN:VEVENT
UID:Indybay-18627433
SEQUENCE:18686158
CREATED:20091101T211700Z
DESCRIPTION:hosted by Bonzo the Unicorn\ndododokie@yahoo.com\n(510) 595-8509\n\nMusic 
 theory from the mind of a unicorn. Practicing the art of creation. Please 
 bring musical instrument (including voice) and\nDESIRE to create original 
 music from your soul!\n\n836 57th St. Oakland\n\n1pm Tuesdays and 
 Wednesdays\n\n\n\n 
 https://www.indybay.org/newsitems/2009/11/01/18627433.php
SUMMARY:East Bay Free Skool Class: Music From the Soul
LOCATION:836 57th St @ Genoa Oakland
URL:https://www.indybay.org/newsitems/2009/11/01/18627433.php
DTSTART:20091118T210000Z
DTEND:20091118T220000Z
END:VEVENT
END:VCALENDAR
