BEGIN:VCALENDAR
VERSION:2.0
X-WR-CALNAME:www.indybay.org
PRODID:-//indybay/ical// v1.0//EN
BEGIN:VEVENT
UID:Indybay-18627226
SEQUENCE:18685819
CREATED:20091030T215000Z
DESCRIPTION:You're invited to join CODEPINK Women for Peace and Global Exchange for a 
 fundraising party to support humanitarian aid and Bay Area delegates 
 participating in the December 31 Gaza Freedom March—a massive 
 international effort to break the siege of Gaza.  CODEPINK and Global 
 Exchange cofounder Medea Benjamin will share her experiences from traveling 
 to Gaza and the latest news about this historic march.\n\n$15 suggested 
 donation at the door gets you a drink and good donation karma.  Full bar, 
 Mediterranean appetizers, dinner entrees, hookah available.   \n\nCan you 
 imagine a more important place to mark the end of 2009 than in Gaza, 
 marching hand in hand with Palestinians and people from all over the world 
 who are committed to peace, justice, human rights, ending the siege of 
 Gaza, and rebuilding the country devastated by the Israeli attacks one year 
 ago? We can't.  The Gaza Freedom March delegation will take place in Gaza 
 Dec. 27-Jan. 2.  On December 31, 2009 we will mark the New Year by marching 
 alongside the Palestinian people of Gaza in a non-violent demonstration 
 that breaches the illegal blockade.  Already over 300 people from over 30 
 countries have signed up. They include writers like Alice Walker, actors 
 like Duraid Lahham, members of Parliament from Europe and Asia, diplomats, 
 interfaith leaders, students, journalists and more.  Will you help us make 
 this march a success by giving a donation? \n\nTax-deductible donations can 
 be made payable to CODEPINK.  If you can't make it to the fundraiser, you 
 can send a check to CODEPINK, 2010 Linden Avenue, Venice, CA 90291.  To 
 make a donation online, to find out more about the march, or to sign up to 
 join us in Gaza, please visit www.gazafreedommarch.org. \n 
 https://www.indybay.org/newsitems/2009/10/30/18627226.php
SUMMARY:Gaza Freedom March Fundraiser
LOCATION:Morac Restaurant and Lounge\n3122 16th St (at Valencia, next to the Pork 
 Store Cafe)\nSan Francisco, CA
URL:https://www.indybay.org/newsitems/2009/10/30/18627226.php
DTSTART:20091117T020000Z
DTEND:20091117T040000Z
END:VEVENT
END:VCALENDAR
