BEGIN:VCALENDAR
VERSION:2.0
X-WR-CALNAME:www.indybay.org
PRODID:-//indybay/ical// v1.0//EN
BEGIN:VEVENT
UID:Indybay-18626293
SEQUENCE:18684436
CREATED:20091022T002600Z
DESCRIPTION:Award winning actor and director Margo Hall, and Chinaka Hodge, playwright 
 in residence, team up to offer this exciting workshop at Intersection for 
 the Arts. Instructors Hall and Hodge (who are collaborating on the next 
 Campo Santo production, Mirrors In Every Corner) will share their unique 
 insights and expertise with writers and actors of all levels. In this 
 workshop you will:\n\ndevelop your writing for the stage \npush through 
 writers block \nhear what your work sounds like onstage \ngive/get critique 
 \nactors will have the ability to work with new artists on scripts and gain 
 experience with cold readings \naspiring playwrights will work to improve 
 writing for the stage \nactors will expand their performance vocabulary 
 through focused monologue and partnered scene work \neveryone will be 
 expected to move beyond comfort zones, as all participants will be 
 encouraged to write and act. \n**Some writing and performance experience is 
 ideal, however this workshop is open to participants of all 
 levels.\nRegister here: 
 https://www.ticketturtle.com/index.php?retail=inter\n\n 
 https://www.indybay.org/newsitems/2009/10/21/18626293.php
SUMMARY:Writing & Acting with Margo Hall & Chinaka Hodge
LOCATION:Intersection for the Arts\n446 Valencia Street\nSan Francisco, CA\n94103
URL:https://www.indybay.org/newsitems/2009/10/21/18626293.php
DTSTART:20091118T020000Z
DTEND:20091118T050000Z
END:VEVENT
END:VCALENDAR
