BEGIN:VCALENDAR
VERSION:2.0
X-WR-CALNAME:www.indybay.org
PRODID:-//indybay/ical// v1.0//EN
BEGIN:VEVENT
UID:Indybay-18626158
SEQUENCE:18684227
CREATED:20091020T214500Z
DESCRIPTION:PSL San Diego\nPublic ForumSOCIALISM\nWhat It Is & Why We Need ItThis 
 Saturday,\nOctober 24,\n6 pmCentro Cultural de la\nRaza2125 Park Blvd., San 
 Diego 92134Map\nand DirectionsJoin the Party for Socialism and Liberation 
 on Saturday\nOct. 24th for our first ever Public Forum in San Diego.  There 
 will be\nspeakers and plenty of discussion. Learn\nwhy the current system 
 is leaving millions of people unemployed, homeless and\nhungry, while a few 
 make super profits and what the real answer to this\ncapitalist crisis is, 
 socialism.\nCapitalism is a system in which all wealth and\npower is held 
 by a tiny group of billionaires and their state—it is the source of\nthe 
 main problems confronting humanity today: imperialist war, 
 poverty,\nexploitation, layoffs, unemployment, racism, sexism, 
 lesbian/gay/bi/trans\noppression, environmental destruction, mass 
 imprisonment, union busting, and\nmore.\nWe are fighting for socialism,\na 
 system where the wealth of society belongs to those who produce it, 
 the\nworking class, and is used in a planned and sustainable way for the 
 benefit of\nall. \nCome learn how you can become\ninvolved for the 
 struggle for justice and for a better world.\nFor more info call 
 323-810-3380\nor e-mail la@socialismandliberation.org. \n 
 https://www.indybay.org/newsitems/2009/10/20/18626158.php
SUMMARY:Public Forum in San Diego: Socialism, What It Is, Why We Need It
LOCATION:This is the first public forum in San Diego of the Party for Socialism and 
 Liberation. Please invite everyone you know.
URL:https://www.indybay.org/newsitems/2009/10/20/18626158.php
DTSTART:20091025T010000Z
DTEND:20091025T040000Z
END:VEVENT
END:VCALENDAR
