BEGIN:VCALENDAR
VERSION:2.0
X-WR-CALNAME:www.indybay.org
PRODID:-//indybay/ical// v1.0//EN
BEGIN:VEVENT
UID:Indybay-18625958
SEQUENCE:18683880
CREATED:20091018T214600Z
DESCRIPTION:“Rethink Afghanistan”\nTuesday, October 20, 1 PM\nFireside Room, 
 Unitarian Center\n1187 Franklin St. (at Geary)\nFree, Wheelchair OK\n\nA 
 timely, controversial new film by Robert Greenwald, director of Outfoxed 
 and Iraq for Sale.  Obama was elected largely by people opposed to the Iraq 
 war, but now he is considering intensifying war in Afghanistan, Pakistan or 
 both. What is the truth behind this war? Behind the sham election? Can the 
 war on Afghanistan really be justified?  How do American or Chinese 
 pipelines figure in?  Is drone war on Pakistan an acceptable alternative to 
 military build-up in Afghanistan?  Discussion to follow film showing. Come 
 at 12:30 PM to share snacks and socialize.\n\n 
 https://www.indybay.org/newsitems/2009/10/18/18625958.php
SUMMARY:Robert Greenwald’s “Rethink Afghanistan”
LOCATION:Fireside Room, Unitarian Center\n1187 Franklin St. (at Geary)
URL:https://www.indybay.org/newsitems/2009/10/18/18625958.php
DTSTART:20091020T200000Z
DTEND:20091020T220000Z
END:VEVENT
END:VCALENDAR
