BEGIN:VCALENDAR
VERSION:2.0
X-WR-CALNAME:www.indybay.org
PRODID:-//indybay/ical// v1.0//EN
BEGIN:VEVENT
UID:Indybay-18625541
SEQUENCE:18683299
CREATED:20091015T224800Z
DESCRIPTION:On Tuesday, October 20th, China Dialogue, Give2Asia, Pacific Environment, 
 and the Sierra Club present a panel discussion on the state of 
 environmental activism in China. The panel features Wen Bo and Tori 
 Zwisler, leading activists in China, and will be moderated by Tom Gold, 
 Professor of Sociology at UC Berkeley. \n 
 https://www.indybay.org/newsitems/2009/10/15/18625541.php
SUMMARY:ENVIRONMENTAL ACTIVISM IN CHINA PANEL DISCUSSION
LOCATION:The Sierra Club\nThe Yosemite Room\n85 Second St \nSan Francisco CA 94105
URL:https://www.indybay.org/newsitems/2009/10/15/18625541.php
DTSTART:20091021T010000Z
DTEND:20091021T030000Z
END:VEVENT
END:VCALENDAR
