BEGIN:VCALENDAR
VERSION:2.0
X-WR-CALNAME:www.indybay.org
PRODID:-//indybay/ical// v1.0//EN
BEGIN:VEVENT
UID:Indybay-18624988
SEQUENCE:18682368
CREATED:20091009T190700Z
DESCRIPTION:SAT. 9-4:45pm AND SUN. 9-3:20pm MAIN MEETING VENUE: Cotati Veterans 
 Memorial Hall Breakfast at 8am \np: 707-565-2041 
 http://www.cagreens.org/gap/Schedule.xls\n$50 with registration at the 
 door.\nSingle Day: $25 (same for advance registration or at the door)\n 
 \nSaturday night social event will be at the home of Tim\n \nSaturday 
 Nights:\nAt Tim Morgan’s home (about ¼ mile from Cotati Vet’s B 
 ldg):\n8510 Dorfman Dr. Cotati, 94931\nh: 707-992-0338, c: 
 707-695-9293\nDirections:\nFrom 101 north or south bound, get off at the 
 Cotati exit,\ngo south through central Cotati,\njust south of town is a 
 stop light on old Redwood Highway and Myrtle (to the east) or Valparaiso 
 (to the west)\nproceed a short distance south past that light and take the 
 first right on Lasker,\ngo one block and turn right on Dorfman. Tim's home 
 is the first house after the right turn. Park on the street.\n 
 \nhttp://cagree ns.org/plenary/archives/minutes/0910Logistics.pdf\n\nput up 
 by 
 http://www.facebook.com/home.php?#/profile.php?id=100000031433391&ref=ts\n\nhttp://twitter.com/davidaquinley\n 
 https://www.indybay.org/newsitems/2009/10/09/18624988.php
SUMMARY:Ca. Green Party General Assembly Meet Cotati, Ca. this weekend (Sonoma County)
LOCATION:8505 Park Avenue\nCotati CA 94931\n\nsat. night At Tim Morgan’s home 
 (about ¼ mile from Cotati Vet’s B ldg):\n8510 Dorfman Dr. Cotati, 
 94931\nh: 707-992-0338, c: 707-695-9293
URL:https://www.indybay.org/newsitems/2009/10/09/18624988.php
DTSTART:20091010T160000Z
DTEND:20091011T030000Z
END:VEVENT
END:VCALENDAR
