BEGIN:VCALENDAR
VERSION:2.0
X-WR-CALNAME:www.indybay.org
PRODID:-//indybay/ical// v1.0//EN
BEGIN:VEVENT
UID:Indybay-18624547
SEQUENCE:18681664
CREATED:20091005T212000Z
DESCRIPTION:This will be the first of a series of five talks that offer an introduction 
 and outline of Sufism, as well as an understanding of its living presence. 
 There will be a talk followed by silent meditation and then time for 
 questions, spiritual discussion and dreamwork.\n 
 https://www.indybay.org/newsitems/2009/10/05/18624547.php
SUMMARY:The Sufi Path of Love & the Secrets of Mystical Oneness
LOCATION:Bay Conference Center\n3152 Paradise Drive, Tiburon, CA 94920
URL:https://www.indybay.org/newsitems/2009/10/05/18624547.php
DTSTART:20091018T211500Z
DTEND:20091019T011500Z
END:VEVENT
END:VCALENDAR
