BEGIN:VCALENDAR
VERSION:2.0
X-WR-CALNAME:www.indybay.org
PRODID:-//indybay/ical// v1.0//EN
BEGIN:VEVENT
UID:Indybay-18624412
SEQUENCE:18681437
CREATED:20091005T014000Z
DESCRIPTION:The Ambassador of Venezuela to the U.S., the Honorable Bernardo Alvarez, 
 will be visiting the San Francisco Bay Area on Tuesday Oct 6th and 
 Wednesday Oct 7th, as part of his tour of California.\n\nAmbassador Alvarez 
 will speak about Venezuela's attempt at building a participatory-democracy 
 system, social justice, US-Venezuela relations, and the latest events 
 taking place in Venezuela and Latin America.\n\nTuesday, Oct 6th 3:00 PM - 
 5:00 PM\nWomen's Building\n3543 18th St\nSan Francisco, CA 
 94110\n\nWednesday, October 7 from 4:00 PM - 6:00 PM\n103 Mulford Hall\nUC 
 Berkeley Campus\nAmbassador Alvarez will talk for 45 minutes with a period 
 of questions and discussion. A small reception will follow.\nSponsored by 
 The Center for the Study of the Americas (CENSA), FOOD FIRST, and The 
 Laboratory of Agroecology-UC Berkeley. \n\nBoth events are free and open to 
 the public.\n\nAmbassador Alvarez will also speak at the World Affairs 
 Council in San Francisco.\n\nTuesday, October 6th  6:00 PM - 7:00 PM\nWorld 
 Affairs Council Auditorium\n312 Sutter Street\nSecond Floor\nSan Francisco, 
 California 94108\n\nNon members of the World Affairs Council must register 
 and cancel $15 to attend this event.\n\nVisit the World Affairs Council 
 website for more 
 details.\nhttp://www.itsyourworld.org/assnfe/ev.asp?SnID=2&ID=2613\n\nFor 
 more information, contact Olivia Burlingame Goumbri at 
 ogoumbri@embavenez-us.org and ven-sanfrancisco@gmail.com\n 
 https://www.indybay.org/newsitems/2009/10/04/18624412.php
SUMMARY:Venezuelan Ambassador to speak in the Bay Area Tue. Oct 6th and Wed. Oct 7th
LOCATION:Tuesday, Oct 6th 3:00 PM - 5:00 PM\nWomen's Building\n3543 18th St\nSan 
 Francisco, CA 94110\n\nWednesday, October 7 from 4:00 PM - 6:00 PM\n103 
 Mulford Hall\nUC Berkeley Campus
URL:https://www.indybay.org/newsitems/2009/10/04/18624412.php
DTSTART:20091006T220000Z
DTEND:20091007T000000Z
END:VEVENT
END:VCALENDAR
