BEGIN:VCALENDAR
VERSION:2.0
X-WR-CALNAME:www.indybay.org
PRODID:-//indybay/ical// v1.0//EN
BEGIN:VEVENT
UID:Indybay-18624138
SEQUENCE:18681022
CREATED:20091002T010600Z
DESCRIPTION:Last Chance for Eden\nA Film Showing and Discussion on Racism and 
 Sexism\nwith Director LEE MUN WAH director of The Color of Fear\nFREE 
 ADMISSION\nFor more information, call (510) 
 204-8840\nwww.stirfryseminars.com\n\nLast Chance for Eden is a documentary 
 about nine men and women discussing the issues of racism and sexism in the 
 workplace. They examine the impact of society's stereotypes on their lives 
 in the workplace, in their personal relationships and within their families 
 and in their communities.\n\nFriday, November 20, 2009 7:00pm\nGrace 
 Cathedral * Wilsey Conference Center\n1100 California Street, San 
 Francisco, CA. 94108\n 
 https://www.indybay.org/newsitems/2009/10/01/18624138.php
SUMMARY:Last Chance for Eden-- a film by Lee Mun Wah
LOCATION:Grace Cathedral Wilsey Conference Center\n1100 California Street\nSan 
 Francisco, CA 
 94108\n\nhttp://www.gracecathedral.org/church/overview/spacerental/
URL:https://www.indybay.org/newsitems/2009/10/01/18624138.php
DTSTART:20091120T150000Z
DTEND:20091120T180000Z
END:VEVENT
END:VCALENDAR
