BEGIN:VCALENDAR
VERSION:2.0
X-WR-CALNAME:www.indybay.org
PRODID:-//indybay/ical// v1.0//EN
BEGIN:VEVENT
UID:Indybay-18623858
SEQUENCE:18680583
CREATED:20090930T010300Z
DESCRIPTION:COMMUNITY AWARENESS TOUR\n\nWHAT: Seminar on necessary positive community 
 developmental assets for youth to grow into caring responsible citizens and 
 walking tour of the neighborhood and learn more about the community 
 organizations and their efforts to build and improve their community 
 environment. Lunch is provided. Bring your bus pass/fare. Lunch is 
 provided!\n\nWHEN: Monday October 19, 2009. Campus-wide furlough day--no 
 classes for most SJSU students. \n\nWHERE: Meet at 9:45 am at Building BB. 
 We are taking the bus so BRING YOUR BUS PASS/FARE!\n\nRSVP to 
 ITHINK.sjsu@gmail.com \n 
 https://www.indybay.org/newsitems/2009/09/29/18623858.php
SUMMARY:Community Awareness Tour
LOCATION:Meeting at Building BB (9th and San Carlos, between the Campus Village C 
 and Pool) at San Jose State University\n\nSee link for 
 map:\nhttp://www.sjsu.edu/about_sjsu/visiting/campus_maps/
URL:https://www.indybay.org/newsitems/2009/09/29/18623858.php
DTSTART:20091019T164500Z
DTEND:20091019T214500Z
END:VEVENT
END:VCALENDAR
