BEGIN:VCALENDAR
VERSION:2.0
X-WR-CALNAME:www.indybay.org
PRODID:-//indybay/ical// v1.0//EN
BEGIN:VEVENT
UID:Indybay-18622933
SEQUENCE:18679267
CREATED:20090923T234300Z
DESCRIPTION:PROTEST OF MICHAEL VICK AND THE PHILADELPHIA EAGLES\n\nSunday, October 
 18\n12 – 2 p.m.\nOakland Coliseum\n7000 Coliseum Way\nOakland, CA.\n\nIn 
 Defense of Animals calls on Bay Area animal lovers to be a peaceful and 
 powerful presence at Michael Vick’s appearance in the Bay Area. We want 
 to make it known that we have not forgotten what he did, and stand in 
 opposition to his weak punishment, lack of remorse, and profitable 
 employment with the Eagles. Let us remember the heinous nature of his 
 crime. Vick killed the dogs because they were too gentle to fight. 
 \n\nBring signs! Educational flyers will be provided by In Defense of 
 Animals.\n\nFor more information, contact:\n\nHope Bohanec\nGrassroots 
 Campaigns Director\nIn Defense of Animals\nhope@idausa.org\n(415) 448-0048 
 ex. 208\n\n\n https://www.indybay.org/newsitems/2009/09/23/18622933.php
SUMMARY:Protest of Michael Vick and the Philadelphia Eagles
LOCATION:Oakland Coliseum\n7000 Coliseum Way\nOakland, CA.
URL:https://www.indybay.org/newsitems/2009/09/23/18622933.php
DTSTART:20090923T160000Z
DTEND:20090923T160000Z
END:VEVENT
END:VCALENDAR
