BEGIN:VCALENDAR
VERSION:2.0
X-WR-CALNAME:www.indybay.org
PRODID:-//indybay/ical// v1.0//EN
BEGIN:VEVENT
UID:Indybay-18622172
SEQUENCE:18678069
CREATED:20090916T190400Z
DESCRIPTION:Free Radio 101.1 FM public affairs radio program from 2-3  author Marshall 
 Summers will be discussing our increasingly turbulent and uncertain times 
 and how to navigate them. \n\nThe Great Waves of Change\nMarshall Summers 
 speaking on Free Radio Santa Cruz\n\n\n"The Great Waves 
 Prophecy"\n\nTomorrow, Thursday, September 17th\n\nTo Listen:\n\nThe show 
 will air live from 2 - 3pm Pacific (21:00 GMT). The hosts will be 
 introducing Marshall 15 minutes before the show start with a reading of 
 several passages from the New Message books.\n\nListen live at the Free 
 Radio Santa Cruz website or at 101.1 FM in the Santa Cruz, CA area.\n\nTo 
 Particpate:\n\nYou can call into the show with your questions for Marshall 
 at the Studio Line: (831) 427-3772\n 
 https://www.indybay.org/newsitems/2009/09/16/18622172.php
SUMMARY:Tickling the Belly of the Beast from the Heartland of Santa Cruz
LOCATION:Listen live at the Free Radio Santa Cruz website or at 101.1 FM in the 
 Santa Cruz, CA area.
URL:https://www.indybay.org/newsitems/2009/09/16/18622172.php
DTSTART:20090917T210000Z
DTEND:20090917T220000Z
END:VEVENT
END:VCALENDAR
