BEGIN:VCALENDAR
VERSION:2.0
X-WR-CALNAME:www.indybay.org
PRODID:-//indybay/ical// v1.0//EN
BEGIN:VEVENT
UID:Indybay-18621659
SEQUENCE:18677342
CREATED:20090912T070000Z
DESCRIPTION:\n\nIn Celebration\n\nTheodore G. Vincent\nFebruary 24, 1936-June 14, 
 2009\n\nJoin family and friends in sharing memories and music in 
 celebration of Ted’s rich and diverse life: activist, scholar, 
 long-distance runner, musician: husband, father, grandfather, brother, 
 uncle, friend.\n\nSunday, September 13, 2009 2pm\nNorth Berkeley Senior 
 Center\n1901 Hearst at Martin Luther King, Jr. Way\nmore info: 
 selmaspector@yahoo.com\n\n 
 https://www.indybay.org/newsitems/2009/09/12/18621659.php
SUMMARY:Celebrate the life of Ted Vincent, 1936-2009
LOCATION:North Berkeley Senior Center\n1901 Hearst at Martin Luther King, Jr. 
 Way\n(1/2 mile Northwest of Berkeley BART)
URL:https://www.indybay.org/newsitems/2009/09/12/18621659.php
DTSTART:20090913T210000Z
DTEND:20090914T000000Z
END:VEVENT
END:VCALENDAR
