BEGIN:VCALENDAR
VERSION:2.0
X-WR-CALNAME:www.indybay.org
PRODID:-//indybay/ical// v1.0//EN
BEGIN:VEVENT
UID:Indybay-18621485
SEQUENCE:18677089
CREATED:20090910T074100Z
DESCRIPTION:Improvisational music workshop w/ emphasis on scales, ear training through 
 jazz, blues, and folk styles.\n 
 https://www.indybay.org/newsitems/2009/09/10/18621485.php
SUMMARY:East Bay Free Skool Class: Jazz Workshop
LOCATION:2185 Acton
URL:https://www.indybay.org/newsitems/2009/09/10/18621485.php
DTSTART:20090919T230000Z
DTEND:20090920T020000Z
END:VEVENT
END:VCALENDAR
