BEGIN:VCALENDAR
VERSION:2.0
X-WR-CALNAME:www.indybay.org
PRODID:-//indybay/ical// v1.0//EN
BEGIN:VEVENT
UID:Indybay-18620558
SEQUENCE:18675858
CREATED:20090903T070700Z
DESCRIPTION:Help TAKE 5 days of ACTION against the DRONES! Join CodePINK Womyn's NO 
 DRONES Peace Encampment Sept 25th- 30th.\n\nProtest outside the base, along 
 a well-traveled highway, and in Las Vegas; increase public awareness; BE 
 THERE for one day or all days.\n\nDRONES are unmanned aircraft that murder 
 people in other countries while being remotely operated by US soldiers 
 sitting at computer consoles in this country.\n\nCreech AFB, Indian Springs 
 Nevada (about 35 miles north of Las Vegas) is one of the major centers for 
 operating DRONES.\n\nCaravan with CodePINK women from Berkeley to Indian 
 Springs. Call 510-540-7007 for more info and to BE THERE!\n 
 https://www.indybay.org/newsitems/2009/09/03/18620558.php
SUMMARY:CodePINK NO DRONES Peace Encampment Creech AFB
LOCATION:Creech Air Force Base\nIndian Springs, Nevada
URL:https://www.indybay.org/newsitems/2009/09/03/18620558.php
DTSTART:20090925T140000Z
DTEND:20090926T020000Z
END:VEVENT
END:VCALENDAR
