BEGIN:VCALENDAR
VERSION:2.0
X-WR-CALNAME:www.indybay.org
PRODID:-//indybay/ical// v1.0//EN
BEGIN:VEVENT
UID:Indybay-18620280
SEQUENCE:18675382
CREATED:20090831T185800Z
DESCRIPTION:D TOUR\nPat Spurgeon has big dreams to make it as an indie rock musician. 
 Just as his career is about to take off, he suffers an incredible setback 
 when one of his kidneys begins to fail. Follow Pat on his emotional search 
 for a living organ donor. But can he balance his health with a rock n’ 
 roll lifestyle?\n\n************\nDoors Open at 5:15pm\nScreening at 
 5:45pm\n https://www.indybay.org/newsitems/2009/08/31/18620280.php
SUMMARY:D TOUR - Film Screening
LOCATION:San Francisco Main Library\nKoret Auditorium\n100 Larkin Street\nSan 
 Francisco, CA
URL:https://www.indybay.org/newsitems/2009/08/31/18620280.php
DTSTART:20090916T004500Z
DTEND:20090916T024500Z
END:VEVENT
END:VCALENDAR
