BEGIN:VCALENDAR
VERSION:2.0
X-WR-CALNAME:www.indybay.org
PRODID:-//indybay/ical// v1.0//EN
BEGIN:VEVENT
UID:Indybay-18619923
SEQUENCE:18674852
CREATED:20090827T164800Z
DESCRIPTION:SF, 2009 Oct 10 --- Nude Peace Day, Baker Bch\n....\n[Oooops.]\nFor 
 details,\nplease see below;\nin COMMENTS \nsection...\n.....\n 
 https://www.indybay.org/newsitems/2009/08/27/18619923.php
SUMMARY:10/10 Nude Peace Day SF
LOCATION:clothing-optional portion of Baker Beach, in GGNRA, San Francisco, CA
URL:https://www.indybay.org/newsitems/2009/08/27/18619923.php
DTSTART:20091010T210000Z
DTEND:20091010T220000Z
END:VEVENT
END:VCALENDAR
