BEGIN:VCALENDAR
VERSION:2.0
X-WR-CALNAME:www.indybay.org
PRODID:-//indybay/ical// v1.0//EN
BEGIN:VEVENT
UID:Indybay-18619065
SEQUENCE:18675061
CREATED:20090825T061500Z
DESCRIPTION:UA in the Bay is organizing a G20 resistance consulta. If you are 
 interested in finding out more about the resistance forming to meet the G20 
 in Pittsburgh this September please come out. Folks will be discussing how 
 activists in the bay area can work together to plug into the Pittsburgh 
 action plan, and to work on logistical details like travel and housing. 12 
 Noon August 29 Longhaul Infoshop 3124 Shattuck Ave. Berkeley. \n 
 https://www.indybay.org/newsitems/2009/08/24/18619065.php
SUMMARY:Bay Area G20 resistance Consulta
LOCATION:Longhaul Infoshop \n3124 SHATTUCK AVE\nBerkeley, CA
URL:https://www.indybay.org/newsitems/2009/08/24/18619065.php
DTSTART:20090829T190000Z
DTEND:20090829T230000Z
END:VEVENT
END:VCALENDAR
