BEGIN:VCALENDAR
VERSION:2.0
X-WR-CALNAME:www.indybay.org
PRODID:-//indybay/ical// v1.0//EN
BEGIN:VEVENT
UID:Indybay-18616512
SEQUENCE:18670929
CREATED:20090819T000900Z
DESCRIPTION:A San Francisco forum sponsored by Peace and Freedom Party on the need for 
 a fightback against the attack on public workers will be held at 522 
 Valencia in San Francisco on August 27, 200.\n\nStop the Cutbacks in 
 California! \nPublic Workers Speak Out! \n \nA forum Sponsored by \nthe San 
 Francisco Peace and Freedom Party \n \n \nThursday, August 27th at 522 
 Valencia Street, 7:00 PM \n(Two blocks west of the 16th ST. BART station in 
 SF) \n \nSPEAKERS: \nCharles Rachlis,  Scientist, Member of CAPS* \nCharles 
 Smith,  AFSME, Local 44* \nMary Anne Ring CUE, Local 6* \n   *For 
 Identification purposes only \n \n \nA forum Sponsored by \nthe San 
 Francisco Peace and \nFreedom Party \nFor more information: 415-637-3787 \n 
 \nwww.peaceandfreedom.org\n 
 https://www.indybay.org/newsitems/2009/08/18/18616512.php
SUMMARY:P&F SF Forum Stop the Cutbacks in California!
LOCATION:522 Valencia Street\n(Two blocks west of the 16th ST. BART station in SF) 
 \n
URL:https://www.indybay.org/newsitems/2009/08/18/18616512.php
DTSTART:20090828T020000Z
DTEND:20090828T040000Z
END:VEVENT
END:VCALENDAR
