BEGIN:VCALENDAR
VERSION:2.0
X-WR-CALNAME:www.indybay.org
PRODID:-//indybay/ical// v1.0//EN
BEGIN:VEVENT
UID:Indybay-18616023
SEQUENCE:18670281
CREATED:20090815T211400Z
DESCRIPTION:Come out to hear a presentation by Dr. Aisha Fields, coordinator of the All 
 African People's Development & Empowerment Project on the African Village 
 Survival Initiative, a response by the African community to the global 
 economic crisis to build a sustainable future. \n 
 https://www.indybay.org/newsitems/2009/08/15/18616023.php
SUMMARY:Solidarity with the African Village Survival Initiative
LOCATION:Niebyl-Proctor Marxist Library, 6501 Telegraph Ave, Oakland
URL:https://www.indybay.org/newsitems/2009/08/15/18616023.php
DTSTART:20090826T020000Z
DTEND:20090826T040000Z
END:VEVENT
END:VCALENDAR
