BEGIN:VCALENDAR
VERSION:2.0
X-WR-CALNAME:www.indybay.org
PRODID:-//indybay/ical// v1.0//EN
BEGIN:VEVENT
UID:Indybay-18615930
SEQUENCE:18670178
CREATED:20090815T023200Z
DESCRIPTION:A panel discussion with a leading LGBT activist, gay clergy and socialists 
 on the struggle for LGBT rights, past and present, and the strategy 
 necessary to achieve full LGBT equality and civil rights in the United 
 States and throughout the world. \n 
 https://www.indybay.org/newsitems/2009/08/14/18615930.php
SUMMARY:Which Way Forward for LGBT Rights?
LOCATION:522 Valencia St., San Francisco, CA 94114\nValencia St. @16th
URL:https://www.indybay.org/newsitems/2009/08/14/18615930.php
DTSTART:20090830T023000Z
DTEND:20090830T053000Z
END:VEVENT
END:VCALENDAR
