BEGIN:VCALENDAR
VERSION:2.0
X-WR-CALNAME:www.indybay.org
PRODID:-//indybay/ical// v1.0//EN
BEGIN:VEVENT
UID:Indybay-18615859
SEQUENCE:18670057
CREATED:20090814T181500Z
DESCRIPTION:Heavy Rotation benefit for "Paradigm!" a film by Joie Rey Cohen\nLive 
 music: \nRhubarb Whiskey (Cindy Emch)\nInfinite Bean (Fugayzi)\n\nSlam 
 Poet:\nTrash Can POet (Miles Burke)\n\nDancing with DJ Durt (Ships in the 
 Night) & DJ Amber\nAll night until 1:30am!!!\n 
 https://www.indybay.org/newsitems/2009/08/14/18615859.php
SUMMARY:Heavy Rotation a Benefit for "Paradigm!" a film by Joie Rey Cohen
LOCATION:El Rio \n3158 Mission @ Precita (San Francisco, CA)\n
URL:https://www.indybay.org/newsitems/2009/08/14/18615859.php
DTSTART:20090815T050000Z
DTEND:20090815T080000Z
END:VEVENT
END:VCALENDAR
