BEGIN:VCALENDAR
VERSION:2.0
X-WR-CALNAME:www.indybay.org
PRODID:-//indybay/ical// v1.0//EN
BEGIN:VEVENT
UID:Indybay-18615742
SEQUENCE:18669887
CREATED:20090814T042300Z
DESCRIPTION:Haight Ashbury Peace Vigil--Friday, July 17, and every third Friday of the 
 Month, from 6:00 to 8:00 p.m., at the corner of Masonic and Fell, in the 
 Golden Gate Park Panhandle. Express your opposition to war. We will have 
 signs, candles, music, and cookies. Come for the full two hours, or join us 
 for five minutes. Everybody opposed to war is welcome. \n\n\n 
 https://www.indybay.org/newsitems/2009/08/13/18615742.php
SUMMARY:Haight Ashbury Peace Vigil
LOCATION:Corner of Masonic and Fell (Panhandle)
URL:https://www.indybay.org/newsitems/2009/08/13/18615742.php
DTSTART:20090822T010000Z
DTEND:20090822T030000Z
END:VEVENT
END:VCALENDAR
