BEGIN:VCALENDAR
VERSION:2.0
X-WR-CALNAME:www.indybay.org
PRODID:-//indybay/ical// v1.0//EN
BEGIN:VEVENT
UID:Indybay-18615695
SEQUENCE:18669776
CREATED:20090813T202800Z
DESCRIPTION:O A K L A N D I S H   P R E S E N T S:\n\nThe 4th Annual Radio 
 Regatta!\n\nWhere: The Lake Merritt Boathouse, 568 Bellevue Ave. 
 Oakland\n\nWhen: August 23, 2009\n\nTime: 1:00-7:00pm\n\nThis is a free 
 party for all ages to enjoy. There will be DJ's, food, free gondola rides, 
 and half-priced boat rentals. There will be a microbroadcast of the event, 
 so you can listen to the music while out on the lake on a boat ride if you 
 bring your own radio. This year's Radio Regatta will also feature the art 
 and other work of some of the 2009 Oakland Innovators award 
 winners.\n\n\n\n\n 
 https://www.indybay.org/newsitems/2009/08/13/18615695.php
SUMMARY:Radio Regatta
LOCATION:Lake Merritt Boathouse in Oakland; 568 Bellevue Ave.
URL:https://www.indybay.org/newsitems/2009/08/13/18615695.php
DTSTART:20090823T200000Z
DTEND:20090824T020000Z
END:VEVENT
END:VCALENDAR
